BEGIN:VCALENDAR
VERSION:2.0
PRODID:-//Penn&#039;s Woods West Trout Unlimited - ECPv6.15.18//NONSGML v1.0//EN
CALSCALE:GREGORIAN
METHOD:PUBLISH
X-WR-CALNAME:Penn&#039;s Woods West Trout Unlimited
X-ORIGINAL-URL:https://pwwtu.org
X-WR-CALDESC:Events for Penn&#039;s Woods West Trout Unlimited
REFRESH-INTERVAL;VALUE=DURATION:PT1H
X-Robots-Tag:noindex
X-PUBLISHED-TTL:PT1H
BEGIN:VTIMEZONE
TZID:America/New_York
BEGIN:DAYLIGHT
TZOFFSETFROM:-0500
TZOFFSETTO:-0400
TZNAME:EDT
DTSTART:20230312T070000
END:DAYLIGHT
BEGIN:STANDARD
TZOFFSETFROM:-0400
TZOFFSETTO:-0500
TZNAME:EST
DTSTART:20231105T060000
END:STANDARD
BEGIN:DAYLIGHT
TZOFFSETFROM:-0500
TZOFFSETTO:-0400
TZNAME:EDT
DTSTART:20240310T070000
END:DAYLIGHT
BEGIN:STANDARD
TZOFFSETFROM:-0400
TZOFFSETTO:-0500
TZNAME:EST
DTSTART:20241103T060000
END:STANDARD
BEGIN:DAYLIGHT
TZOFFSETFROM:-0500
TZOFFSETTO:-0400
TZNAME:EDT
DTSTART:20250309T070000
END:DAYLIGHT
BEGIN:STANDARD
TZOFFSETFROM:-0400
TZOFFSETTO:-0500
TZNAME:EST
DTSTART:20251102T060000
END:STANDARD
END:VTIMEZONE
BEGIN:VEVENT
DTSTART;TZID=America/New_York:20240208T183000
DTEND;TZID=America/New_York:20240208T200000
DTSTAMP:20260422T161122
CREATED:20240209T001753Z
LAST-MODIFIED:20240209T002021Z
UID:10000175-1707417000-1707422400@pwwtu.org
SUMMARY:McDonald Sportsmen’s Foundation 2024 Fly Tying
DESCRIPTION:Description: Learn how to tie flies for fishing \n• Learn how to tie one or more fly patterns each night. Attendees will then tie the fly \nillustrated. In general\, the emphasis will be on tying flies used to target trout.\n• Each evening a topic or technique will be discussed to provide more in-depth detail \ninto fly tying (i.e. vises\, common tools\, hooks\, threads\, dubbing\, hackle\, chenille\,\nweighting flies\, ribbing materials).\n• Possible Patterns Tied: Green Weenie\, Eggstasy egg\, Green Caddis Larva\, \nSquirmy Wormy\, Hare’s Ear Nymph\, Pheasant Tail Nymph\, Frenchie\, Soft Hackle\nHare’s Ear and many more possibilities\n\nLocation: House at 93 Joe Cain Road\, Bulger\, PA 15019 \n\n• At top of hill of driveway turn left (house on right is private residence) \n• Enter door located to right of garage doors of house \n\nWho: Open to the Public \n• No experience is necessary \n• No cost – all tools and materials will be provided \n• Vises and tools are available to first 6 thru the door (please bring your vise\, if you \nhave one\, in the event we run out)\nWhen: 6:30 to 8:00 pm on Thursdays on the dates listed below \n• February 1\, 8\, 22\, 29\, and March 7 (No Tying Feb. 15)
URL:https://pwwtu.org/event/mcdonald-sportsmens-foundation-2024-fly-tying-2/
LOCATION:93 Joe Cain Road\, Bulger\, PA 15019\, 93 Joe Cain Road\, Bulger\, PA\, 15019\, United States
CATEGORIES:education
ATTACH;FMTTYPE=image/jpeg:https://pwwtu.org/wp-content/uploads/2024/02/IMG_1058-scaled.jpeg
END:VEVENT
BEGIN:VEVENT
DTSTART;TZID=America/New_York:20240212T190000
DTEND;TZID=America/New_York:20240212T210000
DTSTAMP:20260422T161122
CREATED:20240208T235628Z
LAST-MODIFIED:20240209T000020Z
UID:10000174-1707764400-1707771600@pwwtu.org
SUMMARY:Penn's Woods West Chapter Meeting
DESCRIPTION:The meetings are open to the public\, and Chapter Members are encouraged to attend. \nGuest Speaker: Jeff Blood\nJeff will be highlighting his fishing adventure in Cuba\, his thoughts on steelhead fishing and then open it up for discussion!\nJeff Blood has fly fished in Saltwater about 25 times in his life for Bonefish\, Tarpon and Permit and Cuba was by far the best fishing. He bases this on the shear volume of flats\, numbers of fish and size. Be sure to attend the meeting on Monday to hear his incredible tales and absorb his knowledge — especially on Great Lakes Steelhead fishing — learned over a lifetime. You don’t want to miss it! \nAND … \nRequest for Volunteers and Additional Flies for the Second Annual USA International Sportsmen’s Show.\nAre You a Fly Tier? \nPWWTU needs donations for The Second Annual USA International Sportsmen’s Show at our booth (#4) on February 16–18.\nJust tie up bugs in sets of 6 — any fly patterns (dries\, wets\, streamers\, etc.) and bring them to our February meeting to turn them in. We’ll have boxes available there for packaging. \nCan You Donate Some Time at the Sportsmen’s Show?    \nSportsman Show Volunteers are needed at the Monroeville Convention Center. Volunteers get free admission to the show on the day worked. \nThe following shifts are currently open.\n(Note: we’d like to have at least 2 each shift and 3 for the busier times) \nFriday February 16: \n10 am – 3 pm (1 volunteer needed) \n3 pm -7 pm (2 volunteers needed) \nSaturday  February 17 \n10 am – 1 pm (1 volunteer needed) \n1 pm – 3 pm (3 volunteers needed) \n3 pm -7 pm (1 volunteer needed) \nSunday  February 18 \n10 am – 1 pm (1 volunteer needed) \n1pm – 5 pm (1 volunteer needed) \nPlease see Ron at the meeting or email/call him with questions or to sign up as a volunteer. \nRon Milavec\nrmilavec@comcast.net\nHome: 412-835-6107\nMobile: 412-352-9421 \nSee you on Monday\, February 12\, 2024 at 7 PM for our monthly chapter meeting. Thanks to all the fly tiers and volunteers for your skills\, time\, and donations! \nChrist Church at Grove Farm\n246 Duff Road\nSewickley\, PA 15243 \nThanks and help spread the word!
URL:https://pwwtu.org/event/penns-woods-west-chapter-meeting-3/
LOCATION:Christ Church at Grove Farm\, 249 Duff Road\, Sewickley\, PA\, 15243\, United States
CATEGORIES:Chapter Meeting,education,Fishing,meetings
ATTACH;FMTTYPE=image/jpeg:https://pwwtu.org/wp-content/uploads/2024/02/IMG_2709-scaled.jpeg
ORGANIZER;CN="PWW TU Chapter":MAILTO:president@pwwtu.org
END:VEVENT
BEGIN:VEVENT
DTSTART;TZID=America/New_York:20240216T100000
DTEND;TZID=America/New_York:20240216T190000
DTSTAMP:20260422T161122
CREATED:20240209T001643Z
LAST-MODIFIED:20240209T001644Z
UID:10000171-1708077600-1708110000@pwwtu.org
SUMMARY:2nd Annual USA International Sportsmen's Show
DESCRIPTION:
URL:https://pwwtu.org/event/2nd-annual-usa-international-sportsmens-show-2/
LOCATION:Monroeville Convention Center\, 209 Mall Boulevard\, Monroeville\, PA\, 15146\, United States
CATEGORIES:education,Fishing,Fly Tying
ATTACH;FMTTYPE=image/png:https://pwwtu.org/wp-content/uploads/2024/02/sportsmensShow.png
END:VEVENT
BEGIN:VEVENT
DTSTART;TZID=America/New_York:20240222T183000
DTEND;TZID=America/New_York:20240222T200000
DTSTAMP:20260422T161122
CREATED:20240209T001221Z
LAST-MODIFIED:20240209T002209Z
UID:10000176-1708626600-1708632000@pwwtu.org
SUMMARY:McDonald Sportsmen’s Foundation 2024 Fly Tying
DESCRIPTION:Description: Learn how to tie flies for fishing \n• Learn how to tie one or more fly patterns each night. Attendees will then tie the fly \nillustrated. In general\, the emphasis will be on tying flies used to target trout.\n• Each evening a topic or technique will be discussed to provide more in-depth detail \ninto fly tying (i.e. vises\, common tools\, hooks\, threads\, dubbing\, hackle\, chenille\,\nweighting flies\, ribbing materials).\n• Possible Patterns Tied: Green Weenie\, Eggstasy egg\, Green Caddis Larva\, \nSquirmy Wormy\, Hare’s Ear Nymph\, Pheasant Tail Nymph\, Frenchie\, Soft Hackle\nHare’s Ear and many more possibilities\n\nLocation: House at 93 Joe Cain Road\, Bulger\, PA 15019  \n\n• At top of hill of driveway turn left (house on right is private residence) \n• Enter door located to right of garage doors of house \n\nWho: Open to the Public \n• No experience is necessary \n• No cost – all tools and materials will be provided \n• Vises and tools are available to first 6 thru the door (please bring your vise\, if you \nhave one\, in the event we run out)\nWhen: 6:30 to 8:00 pm on Thursdays on the dates listed below \n• February 1\, 8\, 22\, 29\, and March 7 (No Tying Feb. 15)
URL:https://pwwtu.org/event/mcdonald-sportsmens-foundation-2024-fly-tying/2024-02-22/
LOCATION:93 Joe Cain Road\, Bulger\, PA 15019\, 93 Joe Cain Road\, Bulger\, PA\, 15019\, United States
CATEGORIES:education
ATTACH;FMTTYPE=image/jpeg:https://pwwtu.org/wp-content/uploads/2024/02/IMG_1058-scaled.jpeg
END:VEVENT
BEGIN:VEVENT
DTSTART;TZID=America/New_York:20240229T183000
DTEND;TZID=America/New_York:20240229T200000
DTSTAMP:20260422T161122
CREATED:20240209T001221Z
LAST-MODIFIED:20240209T002209Z
UID:10000177-1709231400-1709236800@pwwtu.org
SUMMARY:McDonald Sportsmen’s Foundation 2024 Fly Tying
DESCRIPTION:Description: Learn how to tie flies for fishing \n• Learn how to tie one or more fly patterns each night. Attendees will then tie the fly \nillustrated. In general\, the emphasis will be on tying flies used to target trout.\n• Each evening a topic or technique will be discussed to provide more in-depth detail \ninto fly tying (i.e. vises\, common tools\, hooks\, threads\, dubbing\, hackle\, chenille\,\nweighting flies\, ribbing materials).\n• Possible Patterns Tied: Green Weenie\, Eggstasy egg\, Green Caddis Larva\, \nSquirmy Wormy\, Hare’s Ear Nymph\, Pheasant Tail Nymph\, Frenchie\, Soft Hackle\nHare’s Ear and many more possibilities\n\nLocation: House at 93 Joe Cain Road\, Bulger\, PA 15019  \n\n• At top of hill of driveway turn left (house on right is private residence) \n• Enter door located to right of garage doors of house \n\nWho: Open to the Public \n• No experience is necessary \n• No cost – all tools and materials will be provided \n• Vises and tools are available to first 6 thru the door (please bring your vise\, if you \nhave one\, in the event we run out)\nWhen: 6:30 to 8:00 pm on Thursdays on the dates listed below \n• February 1\, 8\, 22\, 29\, and March 7 (No Tying Feb. 15)
URL:https://pwwtu.org/event/mcdonald-sportsmens-foundation-2024-fly-tying/2024-02-29/
LOCATION:93 Joe Cain Road\, Bulger\, PA 15019\, 93 Joe Cain Road\, Bulger\, PA\, 15019\, United States
CATEGORIES:education
ATTACH;FMTTYPE=image/jpeg:https://pwwtu.org/wp-content/uploads/2024/02/IMG_1058-scaled.jpeg
END:VEVENT
END:VCALENDAR