BEGIN:VCALENDAR
VERSION:2.0
PRODID:-//Penn&#039;s Woods West Trout Unlimited - ECPv6.15.18//NONSGML v1.0//EN
CALSCALE:GREGORIAN
METHOD:PUBLISH
X-WR-CALNAME:Penn&#039;s Woods West Trout Unlimited
X-ORIGINAL-URL:https://pwwtu.org
X-WR-CALDESC:Events for Penn&#039;s Woods West Trout Unlimited
REFRESH-INTERVAL;VALUE=DURATION:PT1H
X-Robots-Tag:noindex
X-PUBLISHED-TTL:PT1H
BEGIN:VTIMEZONE
TZID:America/New_York
BEGIN:DAYLIGHT
TZOFFSETFROM:-0500
TZOFFSETTO:-0400
TZNAME:EDT
DTSTART:20230312T070000
END:DAYLIGHT
BEGIN:STANDARD
TZOFFSETFROM:-0400
TZOFFSETTO:-0500
TZNAME:EST
DTSTART:20231105T060000
END:STANDARD
BEGIN:DAYLIGHT
TZOFFSETFROM:-0500
TZOFFSETTO:-0400
TZNAME:EDT
DTSTART:20240310T070000
END:DAYLIGHT
BEGIN:STANDARD
TZOFFSETFROM:-0400
TZOFFSETTO:-0500
TZNAME:EST
DTSTART:20241103T060000
END:STANDARD
BEGIN:DAYLIGHT
TZOFFSETFROM:-0500
TZOFFSETTO:-0400
TZNAME:EDT
DTSTART:20250309T070000
END:DAYLIGHT
BEGIN:STANDARD
TZOFFSETFROM:-0400
TZOFFSETTO:-0500
TZNAME:EST
DTSTART:20251102T060000
END:STANDARD
END:VTIMEZONE
BEGIN:VEVENT
DTSTART;TZID=America/New_York:20240307T183000
DTEND;TZID=America/New_York:20240307T200000
DTSTAMP:20260422T144246
CREATED:20240209T001221Z
LAST-MODIFIED:20240209T002209Z
UID:10000178-1709836200-1709841600@pwwtu.org
SUMMARY:McDonald Sportsmen’s Foundation 2024 Fly Tying
DESCRIPTION:Description: Learn how to tie flies for fishing \n• Learn how to tie one or more fly patterns each night. Attendees will then tie the fly \nillustrated. In general\, the emphasis will be on tying flies used to target trout.\n• Each evening a topic or technique will be discussed to provide more in-depth detail \ninto fly tying (i.e. vises\, common tools\, hooks\, threads\, dubbing\, hackle\, chenille\,\nweighting flies\, ribbing materials).\n• Possible Patterns Tied: Green Weenie\, Eggstasy egg\, Green Caddis Larva\, \nSquirmy Wormy\, Hare’s Ear Nymph\, Pheasant Tail Nymph\, Frenchie\, Soft Hackle\nHare’s Ear and many more possibilities\n\nLocation: House at 93 Joe Cain Road\, Bulger\, PA 15019  \n\n• At top of hill of driveway turn left (house on right is private residence) \n• Enter door located to right of garage doors of house \n\nWho: Open to the Public \n• No experience is necessary \n• No cost – all tools and materials will be provided \n• Vises and tools are available to first 6 thru the door (please bring your vise\, if you \nhave one\, in the event we run out)\nWhen: 6:30 to 8:00 pm on Thursdays on the dates listed below \n• February 1\, 8\, 22\, 29\, and March 7 (No Tying Feb. 15)
URL:https://pwwtu.org/event/mcdonald-sportsmens-foundation-2024-fly-tying/2024-03-07/
LOCATION:93 Joe Cain Road\, Bulger\, PA 15019\, 93 Joe Cain Road\, Bulger\, PA\, 15019\, United States
CATEGORIES:education
ATTACH;FMTTYPE=image/jpeg:https://pwwtu.org/wp-content/uploads/2024/02/IMG_1058-scaled.jpeg
END:VEVENT
BEGIN:VEVENT
DTSTART;TZID=America/New_York:20240311T190000
DTEND;TZID=America/New_York:20240311T210000
DTSTAMP:20260422T144246
CREATED:20240220T161113Z
LAST-MODIFIED:20240226T135757Z
UID:10000179-1710183600-1710190800@pwwtu.org
SUMMARY:Penn's Woods West Chapter Meeting
DESCRIPTION:The meetings are open to the public\, and Chapter Members are encouraged to attend. \nGuest Speaker: Glen Andrews – Wilderness Survival Presentation\nGlen will be our featured speaker for the March meeting. Weather permitting we may have a little campfire at the Barn fire pit that evening.\n\n\nA little about Glen. \nAt the age of 21\, Glen was trained as a first responder for SARs (Search and Rescue) by the military. For 20 years after leaving the military\, he was trained through numerous college courses\, and as a hike leader for Outbound Bound and Oregon Mountain Rescue. He has been an instructor for wilderness survival at TU summer camps for many years. Glen has participated in locating a number of lost (confused?)\, injured or missing persons. Be sure to mark it on your calendar! \n\nThanks and see you there! \n 
URL:https://pwwtu.org/event/penns-woods-west-chapter-meeting-4/
LOCATION:Christ Church at Grove Farm\, 249 Duff Road\, Sewickley\, PA\, 15243\, United States
CATEGORIES:Chapter Meeting,education,Fishing,meetings
ATTACH;FMTTYPE=image/jpeg:https://pwwtu.org/wp-content/uploads/2024/02/thumbnail.jpeg
ORGANIZER;CN="PWW TU Chapter":MAILTO:president@pwwtu.org
END:VEVENT
END:VCALENDAR