BEGIN:VCALENDAR
VERSION:2.0
PRODID:-//Penn&#039;s Woods West Trout Unlimited - ECPv6.15.18//NONSGML v1.0//EN
CALSCALE:GREGORIAN
METHOD:PUBLISH
X-WR-CALNAME:Penn&#039;s Woods West Trout Unlimited
X-ORIGINAL-URL:https://pwwtu.org
X-WR-CALDESC:Events for Penn&#039;s Woods West Trout Unlimited
REFRESH-INTERVAL;VALUE=DURATION:PT1H
X-Robots-Tag:noindex
X-PUBLISHED-TTL:PT1H
BEGIN:VTIMEZONE
TZID:America/New_York
BEGIN:DAYLIGHT
TZOFFSETFROM:-0500
TZOFFSETTO:-0400
TZNAME:EDT
DTSTART:20240310T070000
END:DAYLIGHT
BEGIN:STANDARD
TZOFFSETFROM:-0400
TZOFFSETTO:-0500
TZNAME:EST
DTSTART:20241103T060000
END:STANDARD
BEGIN:DAYLIGHT
TZOFFSETFROM:-0500
TZOFFSETTO:-0400
TZNAME:EDT
DTSTART:20250309T070000
END:DAYLIGHT
BEGIN:STANDARD
TZOFFSETFROM:-0400
TZOFFSETTO:-0500
TZNAME:EST
DTSTART:20251102T060000
END:STANDARD
BEGIN:DAYLIGHT
TZOFFSETFROM:-0500
TZOFFSETTO:-0400
TZNAME:EDT
DTSTART:20260308T070000
END:DAYLIGHT
BEGIN:STANDARD
TZOFFSETFROM:-0400
TZOFFSETTO:-0500
TZNAME:EST
DTSTART:20261101T060000
END:STANDARD
END:VTIMEZONE
BEGIN:VEVENT
DTSTART;TZID=America/New_York:20250322T090000
DTEND;TZID=America/New_York:20250322T150000
DTSTAMP:20260419T200245
CREATED:20250303T124947Z
LAST-MODIFIED:20250303T131332Z
UID:10000280-1742634000-1742655600@pwwtu.org
SUMMARY:Learn about Fly Fishing - FREE CLASS
DESCRIPTION:Penn’s Woods West Trout Unlimited is sponsoring a free one-day “Introduction to and Essentials of Fly Fishing” class from 9 A.M. to 3 P.M on Saturday\, March 22 and on Sunday\, March 23\, 2025 at the Wilkins School Community Center\, led by local fly fishing expert and CCAC instructor Scott Loughner along with PWWTU members. Join us to learn about basics of fly fishing\, including equipment needs\, basic knots\, flies and the insects they imitate\, and basic fly casting. \nContact Ed Barger (ebarger5@comcast.net) for more information or to sign up for one of the sessions. \nWilkins School Community Center\n7604 Charleston Ave\nPittsburgh\, PA 15218\n(Regent Square Neighborhood\,\njust off of the Swissvale Exit of the Parkway East)
URL:https://pwwtu.org/event/learn-about-fly-fishing-free-class/
LOCATION:Wilkins School Community Center\, 7604 Charleston Ave\, Pittsburgh\, PA\, 15218\, United States
CATEGORIES:education,Featured
ATTACH;FMTTYPE=image/jpeg:https://pwwtu.org/wp-content/uploads/2025/03/fly-fishing-lesson.jpg
END:VEVENT
BEGIN:VEVENT
DTSTART;TZID=America/New_York:20250324T180000
DTEND;TZID=America/New_York:20250324T210000
DTSTAMP:20260419T200245
CREATED:20241103T120728Z
LAST-MODIFIED:20250303T125759Z
UID:10000195-1742839200-1742850000@pwwtu.org
SUMMARY:Bar Flies Monthly Meeting
DESCRIPTION:The group meets the fourth Monday of each month (unless specified) at 7:00 pm at Howard’s Tavern\, 98 Center Ave\, West View\, PA 15229. Some folks show up around 6 pm to get some extra time behind the vise. All are welcome and be assured it is a relaxed\, low-key environment to learn and exchange fishing and tying stories. Let’s get those boxes ready for the season! \nYou can park in the lot\, and Howard’s has a handicap ramp and entrance into the dining room on the side of the building. Drinks and a menu are available. \nWebsite: www.howardstavern.com \nFor beginner tiers\, or anyone else:\nWe’ll be doing a various demo ties\, so come learn a few tricks and tips! We’ll have materials ready to go. Bring your equipment\, and if you don’t have any – no problem. We’ll have some spare tools you can try out.\n\nFor the advanced tiers:\nOpen tying – bring whatever you want to tie up and your equipment.\n\n\n\nNOTE: Good idea to bring your lamp or some sort of lighting and an extension cord.\n\nSee ya there!
URL:https://pwwtu.org/event/bar-flies-monthly-meeting-3/2025-03-24/
LOCATION:Howard’s Tavern\, 98 Center Ave\, Pittsburgh\, PA\, 15229\, United States
CATEGORIES:barflies,Diversity,education,Featured,Fishing,Fly Tying
ATTACH;FMTTYPE=image/jpeg:https://pwwtu.org/wp-content/uploads/2022/10/image10.jpeg
END:VEVENT
END:VCALENDAR