BEGIN:VCALENDAR
VERSION:2.0
PRODID:-//Penn&#039;s Woods West Trout Unlimited - ECPv6.15.18//NONSGML v1.0//EN
CALSCALE:GREGORIAN
METHOD:PUBLISH
X-WR-CALNAME:Penn&#039;s Woods West Trout Unlimited
X-ORIGINAL-URL:https://pwwtu.org
X-WR-CALDESC:Events for Penn&#039;s Woods West Trout Unlimited
REFRESH-INTERVAL;VALUE=DURATION:PT1H
X-Robots-Tag:noindex
X-PUBLISHED-TTL:PT1H
BEGIN:VTIMEZONE
TZID:America/New_York
BEGIN:DAYLIGHT
TZOFFSETFROM:-0500
TZOFFSETTO:-0400
TZNAME:EDT
DTSTART:20250309T070000
END:DAYLIGHT
BEGIN:STANDARD
TZOFFSETFROM:-0400
TZOFFSETTO:-0500
TZNAME:EST
DTSTART:20251102T060000
END:STANDARD
BEGIN:DAYLIGHT
TZOFFSETFROM:-0500
TZOFFSETTO:-0400
TZNAME:EDT
DTSTART:20260308T070000
END:DAYLIGHT
BEGIN:STANDARD
TZOFFSETFROM:-0400
TZOFFSETTO:-0500
TZNAME:EST
DTSTART:20261101T060000
END:STANDARD
BEGIN:DAYLIGHT
TZOFFSETFROM:-0500
TZOFFSETTO:-0400
TZNAME:EDT
DTSTART:20270314T070000
END:DAYLIGHT
BEGIN:STANDARD
TZOFFSETFROM:-0400
TZOFFSETTO:-0500
TZNAME:EST
DTSTART:20271107T060000
END:STANDARD
END:VTIMEZONE
BEGIN:VEVENT
DTSTART;VALUE=DATE:20260604
DTEND;VALUE=DATE:20260611
DTSTAMP:20260421T041125
CREATED:20260407T130417Z
LAST-MODIFIED:20260407T130417Z
UID:10000335-1780531200-1781135999@pwwtu.org
SUMMARY:Kettle Creek State Park Outing
DESCRIPTION:June 4th – June 10\, 2026- \nIf you would like to join us\, please reserve a camp site at Kettle Creek State Park. There will be a group campfire each evening. On Saturday night we will have a group BBQ with the meat provided by TU. Those attending the bbq are encouraged to bring a side dish\, dessert or chips and dip. For more information contact glen@pwwtu.org.
URL:https://pwwtu.org/event/kettle-creek-state-park-outing/
LOCATION:Kettle Creek\, 97 Kettle Creek Park Ln\, Renovo\, PA\, 17764\, United States
CATEGORIES:Featured,Outdoor Adventures
ATTACH;FMTTYPE=image/png:https://pwwtu.org/wp-content/uploads/2025/10/kettle-creek.png
END:VEVENT
END:VCALENDAR